BEGIN:VCALENDAR
VERSION:2.0
PRODID:-//Verband Deutscher Ubootfahrer e.V. - ECPv6.15.20//NONSGML v1.0//EN
CALSCALE:GREGORIAN
METHOD:PUBLISH
X-ORIGINAL-URL:https://www.ubootfahrer.de
X-WR-CALDESC:Veranstaltungen für Verband Deutscher Ubootfahrer e.V.
REFRESH-INTERVAL;VALUE=DURATION:PT1H
X-Robots-Tag:noindex
X-PUBLISHED-TTL:PT1H
BEGIN:VTIMEZONE
TZID:Europe/Berlin
BEGIN:DAYLIGHT
TZOFFSETFROM:+0100
TZOFFSETTO:+0200
TZNAME:CEST
DTSTART:20250330T010000
END:DAYLIGHT
BEGIN:STANDARD
TZOFFSETFROM:+0200
TZOFFSETTO:+0100
TZNAME:CET
DTSTART:20251026T010000
END:STANDARD
BEGIN:DAYLIGHT
TZOFFSETFROM:+0100
TZOFFSETTO:+0200
TZNAME:CEST
DTSTART:20260329T010000
END:DAYLIGHT
BEGIN:STANDARD
TZOFFSETFROM:+0200
TZOFFSETTO:+0100
TZNAME:CET
DTSTART:20261025T010000
END:STANDARD
BEGIN:DAYLIGHT
TZOFFSETFROM:+0100
TZOFFSETTO:+0200
TZNAME:CEST
DTSTART:20270328T010000
END:DAYLIGHT
BEGIN:STANDARD
TZOFFSETFROM:+0200
TZOFFSETTO:+0100
TZNAME:CET
DTSTART:20271031T010000
END:STANDARD
END:VTIMEZONE
BEGIN:VEVENT
DTSTART;VALUE=DATE:20260910
DTEND;VALUE=DATE:20260914
DTSTAMP:20260423T230637
CREATED:20260314T155352Z
LAST-MODIFIED:20260324T195527Z
UID:3270-1788998400-1789343999@www.ubootfahrer.de
SUMMARY:13.Treffen der Region West in Wismar
DESCRIPTION:Liebe Kameradinnen\, liebe Kameraden\,\nunser 13.Treffen der Region West findet vom 10. bis 13. September 2026 in Wismar statt. \nDie Hansestadt Wismar liegt an der Ostseeküste im Landkreis Nordwestmecklenburg im Land Mecklenburg-Vorpommern am südlichen Ende der durch die Insel Poel geschützten Wismarer Bucht. Sie ist die sechstgrößte Stadt von Mecklenburg-Vorpommern und das größte der 18 Mittelzentren des Landes. \nAnreise ist am Donnerstag\, den 10. September 2026 bis 18 Uhr.\nUntergebracht sind wir im Hanse House Wismar.\nIch habe ein Zimmerkontingent reservieren lassen.\nDas Hotel hält die Zimmer für uns bis zum 30.06.2026 frei. \nBitte gebt bei der Buchung als Kennwort „Ubootfahrer“ an.\nKontaktdaten für die Zimmerreservierung:\nHanse House Wismar\nBohrstr. 12\nTel.: 03841 245 3339\nWeb: https://hanse-house-wismar.de\nMail: Info@hanse-house-wismar.de \nIch benötige Eure Zu- sowie auch Absagen bis zum 16.06.2026 für weitere Planungen. Schickt die Info bitte per Mail an schauff@ubootfahrer.de \nDerzeit ist folgendes geplant:\n– Besichtigung der WisMarine (www.wismarine.de)\n– Besuch beim phanTechnikum\nWeitere Aktivitäten sind in Planung. \nMit kameradschaftlichem Gruß\nRalf Schauff\nRegionalbeauftragter West\nVerband Deutscher Ubootfahrer e.V. \nschauff@ubootfahrer.de\nralf.schauff@web.de \n 
URL:https://www.ubootfahrer.de/kalender/13-treffen-der-region-west/
LOCATION:Hanse House Wismar\, Bohrstraße 12\, Wismar\, 23966\, Germany
CATEGORIES:Regionaltreffen
ATTACH;FMTTYPE=image/png:https://www.ubootfahrer.de/wp-content/uploads/VDU-Logo-Region-West-2.png
END:VEVENT
END:VCALENDAR